BEGIN:VCALENDAR
VERSION:2.0
PRODID:-//P-20 Network - ECPv6.15.20//NONSGML v1.0//EN
CALSCALE:GREGORIAN
METHOD:PUBLISH
X-WR-CALNAME:P-20 Network
X-ORIGINAL-URL:https://p20network.niu.edu
X-WR-CALDESC:Events for P-20 Network
REFRESH-INTERVAL;VALUE=DURATION:PT1H
X-Robots-Tag:noindex
X-PUBLISHED-TTL:PT1H
BEGIN:VTIMEZONE
TZID:America/Chicago
BEGIN:DAYLIGHT
TZOFFSETFROM:-0600
TZOFFSETTO:-0500
TZNAME:CDT
DTSTART:20190310T080000
END:DAYLIGHT
BEGIN:STANDARD
TZOFFSETFROM:-0500
TZOFFSETTO:-0600
TZNAME:CST
DTSTART:20191103T070000
END:STANDARD
BEGIN:DAYLIGHT
TZOFFSETFROM:-0600
TZOFFSETTO:-0500
TZNAME:CDT
DTSTART:20200308T080000
END:DAYLIGHT
BEGIN:STANDARD
TZOFFSETFROM:-0500
TZOFFSETTO:-0600
TZNAME:CST
DTSTART:20201101T070000
END:STANDARD
BEGIN:DAYLIGHT
TZOFFSETFROM:-0600
TZOFFSETTO:-0500
TZNAME:CDT
DTSTART:20210314T080000
END:DAYLIGHT
BEGIN:STANDARD
TZOFFSETFROM:-0500
TZOFFSETTO:-0600
TZNAME:CST
DTSTART:20211107T070000
END:STANDARD
BEGIN:DAYLIGHT
TZOFFSETFROM:-0600
TZOFFSETTO:-0500
TZNAME:CDT
DTSTART:20220313T080000
END:DAYLIGHT
BEGIN:STANDARD
TZOFFSETFROM:-0500
TZOFFSETTO:-0600
TZNAME:CST
DTSTART:20221106T070000
END:STANDARD
BEGIN:DAYLIGHT
TZOFFSETFROM:-0600
TZOFFSETTO:-0500
TZNAME:CDT
DTSTART:20230312T080000
END:DAYLIGHT
BEGIN:STANDARD
TZOFFSETFROM:-0500
TZOFFSETTO:-0600
TZNAME:CST
DTSTART:20231105T070000
END:STANDARD
BEGIN:DAYLIGHT
TZOFFSETFROM:-0600
TZOFFSETTO:-0500
TZNAME:CDT
DTSTART:20240310T080000
END:DAYLIGHT
BEGIN:STANDARD
TZOFFSETFROM:-0500
TZOFFSETTO:-0600
TZNAME:CST
DTSTART:20241103T070000
END:STANDARD
BEGIN:DAYLIGHT
TZOFFSETFROM:-0600
TZOFFSETTO:-0500
TZNAME:CDT
DTSTART:20250309T080000
END:DAYLIGHT
BEGIN:STANDARD
TZOFFSETFROM:-0500
TZOFFSETTO:-0600
TZNAME:CST
DTSTART:20251102T070000
END:STANDARD
BEGIN:DAYLIGHT
TZOFFSETFROM:-0600
TZOFFSETTO:-0500
TZNAME:CDT
DTSTART:20260308T080000
END:DAYLIGHT
BEGIN:STANDARD
TZOFFSETFROM:-0500
TZOFFSETTO:-0600
TZNAME:CST
DTSTART:20261101T070000
END:STANDARD
END:VTIMEZONE
BEGIN:VEVENT
DTSTART;TZID=America/Chicago:20250424T083000
DTEND;TZID=America/Chicago:20250424T153000
DTSTAMP:20260425T205426
CREATED:20240731T172340Z
LAST-MODIFIED:20240731T172340Z
UID:5515-1745483400-1745508600@p20network.niu.edu
SUMMARY:ECN Conference 2025 - Student-Centered Coaching with Diane Sweeney
DESCRIPTION:We are thrilled to welcome back Diane Sweeney to ECN for our annual conference. Diane believes that Student-Centered Coaching can transform teaching and learning in K-12 schools. Student-Centered Coaching introduces a new way of delivering instructional coaching that puts the needs of students’ front-and-center. By focusing coaching on goals for student learning\, rather than on fixing teachers\, an instructional coach can directly impact instructional practice and student achievement. This day of learning will be of value to prospective coaches\, new coaches\, and experienced coaches\, as well as any school leader interested in creating a culture of coaching in their school or district.
URL:https://p20network.niu.edu/event/ecn-conference-2025-student-centered-coaching-with-diane-sweeney/
LOCATION:NIU Naperville\, 1120 E Diehl Road\, Naperville\, IL\, 60563\, United States
CATEGORIES:Conferences,Workshops
ORGANIZER;CN="P-20 Network":MAILTO:p20network@niu.edu
END:VEVENT
BEGIN:VEVENT
DTSTART;TZID=America/Chicago:20240618T080000
DTEND;TZID=America/Chicago:20240618T153000
DTSTAMP:20260425T205426
CREATED:20240502T201038Z
LAST-MODIFIED:20240502T201038Z
UID:5153-1718697600-1718724600@p20network.niu.edu
SUMMARY:ISBE Career Connections Conference
DESCRIPTION:The Illinois State Board of Education Career Connections Conference is a premier event that offers collaboration\, innovation\, and inspiration to educators throughout Illinois.At Career Connections\, educators come together to exchange ideas\, share best practices\, and foster meaningful connections with their peers. It is a space where the CTE community can engage in discussions and networking that enhance the quality of education and help to best prepare our students for successful futures Conference Website.
URL:https://p20network.niu.edu/event/isbe-career-connections-conference-2/
LOCATION:Tinley Park Convention Center\, 18451 Convention Center Dr\, Tinley Park\, 60477\, United States
CATEGORIES:Conferences
END:VEVENT
BEGIN:VEVENT
DTSTART;TZID=America/Chicago:20240509T083000
DTEND;TZID=America/Chicago:20240509T150000
DTSTAMP:20260425T205426
CREATED:20240502T201932Z
LAST-MODIFIED:20240502T201950Z
UID:5158-1715243400-1715266800@p20network.niu.edu
SUMMARY:ECN Conference 2024 - Stretching Our Learning Edges: Growing (Up) at Work with Jennifer Abrams
DESCRIPTION:We are thrilled to have Jennifer Abrams return to the ECN Conference to work with us on the five facets of being our best selves at work – knowing our identity\, suspending certainty\, taking responsibility\, working interdependently\, and building resiliency. Join us to consider what it means to develop our skills and capacities as lead learners and coaches in our schools. \n\nRegistration is $375 and includes parking\, breakfast\, lunch\, materials\, and 6 Professional Development Hours (PDHs). Participants will receive a copy of Jennifer’s new book Stretching Your Learning Edges: Growing (Up) at Work. \n\nGroups of 3 or more receive a $50 discount per person. Register by April 1\, 2024\, to receive an additional $25 discount per person.
URL:https://p20network.niu.edu/event/ecn-conference-2024-stretching-our-learning-edges-growing-up-at-work-with-jennifer-abrams/
LOCATION:NIU Naperville\, 1120 E Diehl Road\, Naperville\, IL\, 60563\, United States
CATEGORIES:Conferences
ORGANIZER;CN="P-20 Network":MAILTO:p20network@niu.edu
END:VEVENT
BEGIN:VEVENT
DTSTART;TZID=America/Chicago:20230308T080000
DTEND;TZID=America/Chicago:20230308T163000
DTSTAMP:20260425T205426
CREATED:20230201T035728Z
LAST-MODIFIED:20230201T035728Z
UID:4530-1678262400-1678293000@p20network.niu.edu
SUMMARY:Illinois Success Network Conference
DESCRIPTION:
URL:https://p20network.niu.edu/event/illinois-success-network-conference/
LOCATION:Moraine Valley Community College\, 9000 W College Parkway\, Palos Hills\, IL\, 60465\, United States
CATEGORIES:Conferences
ATTACH;FMTTYPE=image/jpeg:https://eadn-wc04-5307718.nxedge.io/wp-content/uploads/2023/01/Illinois-Success-Network-Conference-2023.jpg
END:VEVENT
BEGIN:VEVENT
DTSTART;VALUE=DATE:20230216
DTEND;VALUE=DATE:20230218
DTSTAMP:20260425T205426
CREATED:20230201T035158Z
LAST-MODIFIED:20230201T035831Z
UID:4527-1676505600-1676678399@p20network.niu.edu
SUMMARY:IACTE Annual Conference
DESCRIPTION:The Illinois Association for Career and Technical Education (IACTE) holds their annual conference on February 16 and 17\, 2023\, in Bloomington-Normal. While run separately\, this year’s ISBE Career Connections Conference is being held in partnership with the annual IACTE conference.
URL:https://p20network.niu.edu/event/iacte-annual-conference/
LOCATION:Bloomington-Normal Marriott\, 201 Broadway\, Normal\, IL\, 61761\, United States
CATEGORIES:Conferences
ATTACH;FMTTYPE=image/png:https://eadn-wc04-5307718.nxedge.io/wp-content/uploads/2023/01/IACTE.png
END:VEVENT
BEGIN:VEVENT
DTSTART;TZID=America/Chicago:20230215T080000
DTEND;TZID=America/Chicago:20230215T190000
DTSTAMP:20260425T205426
CREATED:20230201T034621Z
LAST-MODIFIED:20230201T035902Z
UID:4523-1676448000-1676487600@p20network.niu.edu
SUMMARY:ISBE Career Connections Conference
DESCRIPTION:As part of ISBE’s Career ConneCTEd Illinois Career and Technical Education (CTE) series of professional learning workshops\, the Career Connections Conference is ISBE’s annual statewide CTE Conference. Register through February 8\, 2023.
URL:https://p20network.niu.edu/event/isbe-career-connections-conference/
LOCATION:Bloomington-Normal Marriott\, 201 Broadway\, Normal\, IL\, 61761\, United States
CATEGORIES:Conferences
ATTACH;FMTTYPE=image/png:https://eadn-wc04-5307718.nxedge.io/wp-content/uploads/2022/11/NIU_Graphic_2160x1080_CareerConnectionsConf_B.png
ORGANIZER;CN="P-20 Network":MAILTO:p20network@niu.edu
END:VEVENT
BEGIN:VEVENT
DTSTART;VALUE=DATE:20220425
DTEND;VALUE=DATE:20220427
DTSTAMP:20260425T205426
CREATED:20211231T191945Z
LAST-MODIFIED:20211231T191945Z
UID:3631-1650844800-1651017599@p20network.niu.edu
SUMMARY:Illinois Career Connections Conference
DESCRIPTION:Join the Illinois P-20 Network at the 2022 Illinois Career Connections Conference. Learn more at: http://ilcareerconnections.org/
URL:https://p20network.niu.edu/event/illinois-career-connections-conference/
LOCATION:Online
CATEGORIES:Conferences
ATTACH;FMTTYPE=image/jpeg:https://eadn-wc04-5307718.nxedge.io/wp-content/uploads/2021/12/IL-Career-Connections-Conference.jpg
END:VEVENT
BEGIN:VEVENT
DTSTART;VALUE=DATE:20220228
DTEND;VALUE=DATE:20220304
DTSTAMP:20260425T205426
CREATED:20211231T191501Z
LAST-MODIFIED:20211231T191501Z
UID:3628-1646006400-1646351999@p20network.niu.edu
SUMMARY:Illinois 60-by-25 Network Annual Conference
DESCRIPTION:Join the Illinois P-20 Network at this year’s Illinois 60-by-25 Network Annual Conference. Learn more: https://www.60by25.org/2022-conference/
URL:https://p20network.niu.edu/event/illinois-60-by-25-network-annual-conference/
LOCATION:Online
CATEGORIES:Conferences
ATTACH;FMTTYPE=image/jpeg:https://eadn-wc04-5307718.nxedge.io/wp-content/uploads/2021/12/60by25_EquityFirst-2022Conference.jpg
END:VEVENT
BEGIN:VEVENT
DTSTART;VALUE=DATE:20210222
DTEND;VALUE=DATE:20210226
DTSTAMP:20260425T205426
CREATED:20201215T085503Z
LAST-MODIFIED:20201215T085503Z
UID:2998-1613952000-1614297599@p20network.niu.edu
SUMMARY:60 by 25 Network Conference - Forward Together: Navigating Uncertainty and Advancing to 60% by 2025
DESCRIPTION:The Annual 60 by 25 Network Conference is produced by Advance Illinois\, Education Systems Center\, and the Illinois Student Assistance Commission. For more information: 2021 Conference: Save the Date – Illinois 60 by 25 Network
URL:https://p20network.niu.edu/event/60-by-25-network-conference-forward-together-navigating-uncertainty-and-advancing-to-60-by-2025/
LOCATION:Online
CATEGORIES:Conferences
ATTACH;FMTTYPE=image/png:https://eadn-wc04-5307718.nxedge.io/wp-content/uploads/2020/12/60-by-25-Conference-2021.png
END:VEVENT
BEGIN:VEVENT
DTSTART;VALUE=DATE:20200225
DTEND;VALUE=DATE:20200227
DTSTAMP:20260425T205426
CREATED:20200723T050101Z
LAST-MODIFIED:20200723T050122Z
UID:2581-1582588800-1582761599@p20network.niu.edu
SUMMARY:60x25 Network Conference 2020
DESCRIPTION:The 60×25 Network is a network of communities working to achieve the goal of having 60% of adults in Illinois with a degree or high quality credential by 2025. The Illinois P-20 Network is represented annually at the 60×25 Network Conference\, which is promoted by Illinois P-20 Network partners Advance Illinois and Education Systems Center.
URL:https://p20network.niu.edu/event/60x25-network-conference-2020/
LOCATION:Elgin Community College\, 1700 Spartan Drive\, Elgin\, IL\, 60123\, United States
CATEGORIES:Conferences
ATTACH;FMTTYPE=image/png:https://eadn-wc04-5307718.nxedge.io/wp-content/uploads/2020/07/60by25-Logo-Shadow-e1595480142128.png
END:VEVENT
END:VCALENDAR