BEGIN:VCALENDAR
VERSION:2.0
PRODID:-//P-20 Network - ECPv6.15.20//NONSGML v1.0//EN
CALSCALE:GREGORIAN
METHOD:PUBLISH
X-ORIGINAL-URL:https://p20network.niu.edu
X-WR-CALDESC:Events for P-20 Network
REFRESH-INTERVAL;VALUE=DURATION:PT1H
X-Robots-Tag:noindex
X-PUBLISHED-TTL:PT1H
BEGIN:VTIMEZONE
TZID:America/Chicago
BEGIN:DAYLIGHT
TZOFFSETFROM:-0600
TZOFFSETTO:-0500
TZNAME:CDT
DTSTART:20210314T080000
END:DAYLIGHT
BEGIN:STANDARD
TZOFFSETFROM:-0500
TZOFFSETTO:-0600
TZNAME:CST
DTSTART:20211107T070000
END:STANDARD
BEGIN:DAYLIGHT
TZOFFSETFROM:-0600
TZOFFSETTO:-0500
TZNAME:CDT
DTSTART:20220313T080000
END:DAYLIGHT
BEGIN:STANDARD
TZOFFSETFROM:-0500
TZOFFSETTO:-0600
TZNAME:CST
DTSTART:20221106T070000
END:STANDARD
BEGIN:DAYLIGHT
TZOFFSETFROM:-0600
TZOFFSETTO:-0500
TZNAME:CDT
DTSTART:20230312T080000
END:DAYLIGHT
BEGIN:STANDARD
TZOFFSETFROM:-0500
TZOFFSETTO:-0600
TZNAME:CST
DTSTART:20231105T070000
END:STANDARD
BEGIN:DAYLIGHT
TZOFFSETFROM:-0600
TZOFFSETTO:-0500
TZNAME:CDT
DTSTART:20240310T080000
END:DAYLIGHT
BEGIN:STANDARD
TZOFFSETFROM:-0500
TZOFFSETTO:-0600
TZNAME:CST
DTSTART:20241103T070000
END:STANDARD
BEGIN:DAYLIGHT
TZOFFSETFROM:-0600
TZOFFSETTO:-0500
TZNAME:CDT
DTSTART:20250309T080000
END:DAYLIGHT
BEGIN:STANDARD
TZOFFSETFROM:-0500
TZOFFSETTO:-0600
TZNAME:CST
DTSTART:20251102T070000
END:STANDARD
BEGIN:DAYLIGHT
TZOFFSETFROM:-0600
TZOFFSETTO:-0500
TZNAME:CDT
DTSTART:20260308T080000
END:DAYLIGHT
BEGIN:STANDARD
TZOFFSETFROM:-0500
TZOFFSETTO:-0600
TZNAME:CST
DTSTART:20261101T070000
END:STANDARD
END:VTIMEZONE
BEGIN:VEVENT
DTSTART;TZID=America/Chicago:20250416T154500
DTEND;TZID=America/Chicago:20250416T164500
DTSTAMP:20260425T190820
CREATED:20250201T183358Z
LAST-MODIFIED:20250201T183358Z
UID:5737-1744818300-1744821900@p20network.niu.edu
SUMMARY:ECN Coaching Book Study - Data Rules
DESCRIPTION:Data Rules is a recently released book by Jim Knight and Michael Faggella-Luby that supports instructional leaders with explicit strategies for using data effectively and to improve student learning and foster ongoing school improvement. In this book study\, ECN Coordinators Alison Gordon and Sharon Sheehan will lead participants through a series of discussions around the book as work through its reading together. \nSessions will be held online via Zoom from 3.45 to 4.45 PM on February 19\, March 5\, and April 16\, 2025. While registration for the full book study is only $60\, discounts for groups are also available!
URL:https://p20network.niu.edu/event/ecn-coaching-book-study-data-rules-3/
LOCATION:Online
CATEGORIES:Webinars,Workshops
ATTACH;FMTTYPE=image/jpeg:https://eadn-wc04-5307718.nxedge.io/wp-content/uploads/2025/01/Data-Rules-Book-Cover.jpg
ORGANIZER;CN="P-20 Network":MAILTO:p20network@niu.edu
END:VEVENT
BEGIN:VEVENT
DTSTART;TZID=America/Chicago:20250410T154500
DTEND;TZID=America/Chicago:20250410T171500
DTSTAMP:20260425T190820
CREATED:20250201T183741Z
LAST-MODIFIED:20250201T183741Z
UID:5741-1744299900-1744305300@p20network.niu.edu
SUMMARY:ECN Hot Topic - Working Effectively as Partners with Your Teammates and Administrative Colleagues
DESCRIPTION:From 3:45 to 5:15 PM online via Zoom on April 10\, 2025\, instructional coaches and other interested educators will come together to discuss successes and challenges in navigating partnerships\, a current hot topic among instructional coaches. The first portion of this session will include a presentation with details and updates regarding how to strengthen the relationships\, and the second portion of the session will allow participants to share strategies and solutions and talk about changes that can be made in the context of their own schools and school districts.
URL:https://p20network.niu.edu/event/ecn-hot-topic-working-effectively-as-partners-with-your-teammates-and-administrative-colleagues/
LOCATION:Online
CATEGORIES:Webinars,Workshops
ORGANIZER;CN="P-20 Network":MAILTO:p20network@niu.edu
END:VEVENT
BEGIN:VEVENT
DTSTART;TZID=America/Chicago:20250305T154500
DTEND;TZID=America/Chicago:20250305T164500
DTSTAMP:20260425T190820
CREATED:20250201T183149Z
LAST-MODIFIED:20250201T183149Z
UID:5735-1741189500-1741193100@p20network.niu.edu
SUMMARY:ECN Coaching Book Study - Data Rules
DESCRIPTION:Data Rules is a recently released book by Jim Knight and Michael Faggella-Luby that supports instructional leaders with explicit strategies for using data effectively and to improve student learning and foster ongoing school improvement. In this book study\, ECN Coordinators Alison Gordon and Sharon Sheehan will lead participants through a series of discussions around the book as work through its reading together. \nSessions will be held online via Zoom from 3.45 to 4.45 PM on February 19\, March 5\, and April 16\, 2025. While registration for the full book study is only $60\, discounts for groups are also available!
URL:https://p20network.niu.edu/event/ecn-coaching-book-study-data-rules-2/
LOCATION:Online
CATEGORIES:Webinars,Workshops
ATTACH;FMTTYPE=image/jpeg:https://eadn-wc04-5307718.nxedge.io/wp-content/uploads/2025/01/Data-Rules-Book-Cover.jpg
ORGANIZER;CN="P-20 Network":MAILTO:p20network@niu.edu
END:VEVENT
BEGIN:VEVENT
DTSTART;TZID=America/Chicago:20250227T154500
DTEND;TZID=America/Chicago:20250227T171500
DTSTAMP:20260425T190820
CREATED:20250201T183610Z
LAST-MODIFIED:20250201T183610Z
UID:5739-1740671100-1740676500@p20network.niu.edu
SUMMARY:ECN Hot Topic - Recruitment: Inviting Teachers to Engage with Coaches
DESCRIPTION:From 3:45 to 5:15 PM online via Zoom on February 27\, 2025\, instructional coaches and other interested educators will come together to discuss how to engage teachers in the coaching process\, a current hot topic among instructional coaches. The first portion of this session will include a presentation with details and updates regarding effective strategies for recruiting teachers to engage and work with you as a coach\, and the second portion of the session will allow participants to share strategies and solutions and talk about how to recruit teachers more effectively in the context of their own schools and school districts.
URL:https://p20network.niu.edu/event/ecn-hot-topic-recruitment-inviting-teachers-to-engage-with-coaches/
LOCATION:Online
CATEGORIES:Webinars,Workshops
ORGANIZER;CN="P-20 Network":MAILTO:p20network@niu.edu
END:VEVENT
BEGIN:VEVENT
DTSTART;TZID=America/Chicago:20250219T154500
DTEND;TZID=America/Chicago:20250219T164500
DTSTAMP:20260425T190820
CREATED:20250201T182931Z
LAST-MODIFIED:20250201T182931Z
UID:5733-1739979900-1739983500@p20network.niu.edu
SUMMARY:ECN Coaching Book Study - Data Rules
DESCRIPTION:Data Rules is a recently released book by Jim Knight and Michael Faggella-Luby that supports instructional leaders with explicit strategies for using data effectively and to improve student learning and foster ongoing school improvement. In this book study\, ECN Coordinators Alison Gordon and Sharon Sheehan will lead participants through a series of discussions around the book as work through its reading together. \nSessions will be held online via Zoom from 3.45 to 4.45 PM on February 19\, March 5\, and April 16\, 2025. While registration for the full book study is only $60\, discounts for groups are also available!
URL:https://p20network.niu.edu/event/ecn-coaching-book-study-data-rules/
LOCATION:Online
CATEGORIES:Webinars,Workshops
ATTACH;FMTTYPE=image/jpeg:https://eadn-wc04-5307718.nxedge.io/wp-content/uploads/2025/01/Data-Rules-Book-Cover.jpg
ORGANIZER;CN="P-20 Network":MAILTO:p20network@niu.edu
END:VEVENT
BEGIN:VEVENT
DTSTART;TZID=America/Chicago:20250116T133000
DTEND;TZID=America/Chicago:20250116T143000
DTSTAMP:20260425T190820
CREATED:20241126T012731Z
LAST-MODIFIED:20241204T021454Z
UID:5680-1737034200-1737037800@p20network.niu.edu
SUMMARY:ISBE PD Plus: How-to and why
DESCRIPTION:In this webinar\, participants will learn how to use ISBE’s PD Plus system for professional development hours and evaluations. Participants will not only learn how to use this system\, but they will also learn how their use of the system can create new efficiencies for school districts\, regional offices of education\, professional organizations\, and other professional development providers as well as for the educators being served. This webinar is free to Illinois P-20 Network Partner Plus members\, and non-members can register to attend individually. Registrants will receive a calendar invite with a Zoom link to attend the session.
URL:https://p20network.niu.edu/event/isbe-pd-plus-how-to-and-why/
LOCATION:Online
CATEGORIES:Webinars
ORGANIZER;CN="P-20 Network":MAILTO:p20network@niu.edu
END:VEVENT
BEGIN:VEVENT
DTSTART;TZID=America/Chicago:20240828T153000
DTEND;TZID=America/Chicago:20240828T163000
DTSTAMP:20260425T190820
CREATED:20240611T003438Z
LAST-MODIFIED:20240611T003438Z
UID:5423-1724859000-1724862600@p20network.niu.edu
SUMMARY:The Schools We Need Now - Book Launch Webinar
DESCRIPTION:Join host Jason Klein for a discussion with authors Tim Dohrer and Tom Golebiewski about their new book on school health and wellness\, The Schools We Need Now. This is a great opportunity to ask questions and learn more about the book! Register here\, and we will send you a calendar invite and Zoom link!
URL:https://p20network.niu.edu/event/the-schools-we-need-now-book-launch-webinar-2/
LOCATION:Online
CATEGORIES:Webinars
ORGANIZER;CN="P-20 Network":MAILTO:p20network@niu.edu
END:VEVENT
BEGIN:VEVENT
DTSTART;TZID=America/Chicago:20240710T150000
DTEND;TZID=America/Chicago:20240710T160000
DTSTAMP:20260425T190820
CREATED:20240611T002844Z
LAST-MODIFIED:20240611T002844Z
UID:5419-1720623600-1720627200@p20network.niu.edu
SUMMARY:Dual Credit Think Tank Meeting - Option 2 of 2
DESCRIPTION:The Dual Credit Think Tank will hold two internal meetings\, participants can attend either\, to gather questions from the field regarding HB5020 and the legislative process.
URL:https://p20network.niu.edu/event/dual-credit-think-tank-meeting-option-2-of-2/
LOCATION:Online
CATEGORIES:Webinars,Workgroup Meetings
ORGANIZER;CN="P-20 Network":MAILTO:p20network@niu.edu
END:VEVENT
BEGIN:VEVENT
DTSTART;TZID=America/Chicago:20240625T150000
DTEND;TZID=America/Chicago:20240625T160000
DTSTAMP:20260425T190820
CREATED:20240611T002647Z
LAST-MODIFIED:20240611T002647Z
UID:5417-1719327600-1719331200@p20network.niu.edu
SUMMARY:Dual Credit Think Tank Meeting - Option 1 of 2
DESCRIPTION:The Dual Credit Think Tank will hold two internal meetings\, participants can attend either\, to gather questions from the field regarding HB5020 and the legislative process.
URL:https://p20network.niu.edu/event/dual-credit-think-tank-meeting-option-1-of-2/
LOCATION:Online
CATEGORIES:Webinars,Workgroup Meetings
ORGANIZER;CN="P-20 Network":MAILTO:p20network@niu.edu
END:VEVENT
BEGIN:VEVENT
DTSTART;TZID=America/Chicago:20240625T130000
DTEND;TZID=America/Chicago:20240625T140000
DTSTAMP:20260425T190820
CREATED:20240611T003126Z
LAST-MODIFIED:20240611T003320Z
UID:5421-1719320400-1719324000@p20network.niu.edu
SUMMARY:The Schools We Need Now - Book Launch Webinar
DESCRIPTION:Join host Jason Klein for a discussion with authors Tim Dohrer and Tom Golebiewski about their new book on school health and wellness\, The Schools We Need Now. This is a great opportunity to ask questions and learn more about the book! Register here\, and we will send you a calendar invite and Zoom link!
URL:https://p20network.niu.edu/event/the-schools-we-need-now-book-launch-webinar/
LOCATION:Online
CATEGORIES:Webinars
ORGANIZER;CN="P-20 Network":MAILTO:p20network@niu.edu
END:VEVENT
BEGIN:VEVENT
DTSTART;TZID=America/Chicago:20230609T090000
DTEND;TZID=America/Chicago:20230609T100000
DTSTAMP:20260425T190820
CREATED:20230201T044415Z
LAST-MODIFIED:20230201T044415Z
UID:4545-1686301200-1686304800@p20network.niu.edu
SUMMARY:ISBE Career Pathways User Group
DESCRIPTION:The ISBE Career Pathways User Group is a statewide network of educators doing work around the implementation of the Illinois Career Pathways. Participation in the User Group includes access to a group email listserv and monthly meetings. \nRegister to participate in the ISBE Career Pathways User Group.
URL:https://p20network.niu.edu/event/isbe-career-pathways-user-group-5/
LOCATION:Online
CATEGORIES:Webinars,Workgroup Meetings
ATTACH;FMTTYPE=image/jpeg:https://eadn-wc04-5307718.nxedge.io/wp-content/uploads/2022/09/CPUG-Meeting-2022-09.jpg
END:VEVENT
BEGIN:VEVENT
DTSTART;TZID=America/Chicago:20230512T090000
DTEND;TZID=America/Chicago:20230512T100000
DTSTAMP:20260425T190820
CREATED:20230201T044253Z
LAST-MODIFIED:20230201T044253Z
UID:4543-1683882000-1683885600@p20network.niu.edu
SUMMARY:ISBE Career Pathways User Group
DESCRIPTION:The ISBE Career Pathways User Group is a statewide network of educators doing work around the implementation of the Illinois Career Pathways. Participation in the User Group includes access to a group email listserv and monthly meetings. \nRegister to participate in the ISBE Career Pathways User Group.
URL:https://p20network.niu.edu/event/isbe-career-pathways-user-group-4/
LOCATION:Online
CATEGORIES:Webinars,Workgroup Meetings
ATTACH;FMTTYPE=image/jpeg:https://eadn-wc04-5307718.nxedge.io/wp-content/uploads/2022/09/CPUG-Meeting-2022-09.jpg
END:VEVENT
BEGIN:VEVENT
DTSTART;TZID=America/Chicago:20230414T090000
DTEND;TZID=America/Chicago:20230414T100000
DTSTAMP:20260425T190820
CREATED:20230201T041430Z
LAST-MODIFIED:20230201T041430Z
UID:4541-1681462800-1681466400@p20network.niu.edu
SUMMARY:ISBE Career Pathways User Group
DESCRIPTION:The ISBE Career Pathways User Group is a statewide network of educators doing work around the implementation of the Illinois Career Pathways. Participation in the User Group includes access to a group email listserv and monthly meetings. \nRegister to participate in the ISBE Career Pathways User Group.
URL:https://p20network.niu.edu/event/isbe-career-pathways-user-group-3/
LOCATION:Online
CATEGORIES:Webinars,Workgroup Meetings
ATTACH;FMTTYPE=image/jpeg:https://eadn-wc04-5307718.nxedge.io/wp-content/uploads/2022/09/CPUG-Meeting-2022-09.jpg
ORGANIZER;CN="P-20 Network":MAILTO:p20network@niu.edu
END:VEVENT
BEGIN:VEVENT
DTSTART;TZID=America/Chicago:20230310T090000
DTEND;TZID=America/Chicago:20230310T100000
DTSTAMP:20260425T190820
CREATED:20230201T041151Z
LAST-MODIFIED:20230201T041151Z
UID:4539-1678438800-1678442400@p20network.niu.edu
SUMMARY:ISBE Career Pathways User Group
DESCRIPTION:The ISBE Career Pathways User Group is a statewide network of educators doing work around the implementation of the Illinois Career Pathways. Participation in the User Group includes access to a group email listserv and monthly meetings. \nRegister to participate in the ISBE Career Pathways User Group.
URL:https://p20network.niu.edu/event/isbe-career-pathways-user-group-2/
LOCATION:Online
CATEGORIES:Webinars,Workgroup Meetings
ATTACH;FMTTYPE=image/jpeg:https://eadn-wc04-5307718.nxedge.io/wp-content/uploads/2022/09/CPUG-Meeting-2022-09.jpg
END:VEVENT
BEGIN:VEVENT
DTSTART;TZID=America/Chicago:20230210T090000
DTEND;TZID=America/Chicago:20230210T100000
DTSTAMP:20260425T190820
CREATED:20230201T041031Z
LAST-MODIFIED:20230201T041031Z
UID:4537-1676019600-1676023200@p20network.niu.edu
SUMMARY:ISBE Career Pathways User Group
DESCRIPTION:The ISBE Career Pathways User Group is a statewide network of educators doing work around the implementation of the Illinois Career Pathways. Participation in the User Group includes access to a group email listserv and monthly meetings. \nRegister to participate in the ISBE Career Pathways User Group.
URL:https://p20network.niu.edu/event/isbe-career-pathways-user-group/
LOCATION:Online
CATEGORIES:Webinars,Workgroup Meetings
ATTACH;FMTTYPE=image/jpeg:https://eadn-wc04-5307718.nxedge.io/wp-content/uploads/2022/09/CPUG-Meeting-2022-09.jpg
ORGANIZER;CN="P-20 Network":MAILTO:p20network@niu.edu
END:VEVENT
BEGIN:VEVENT
DTSTART;TZID=America/Chicago:20230207T140000
DTEND;TZID=America/Chicago:20230207T150000
DTSTAMP:20260425T190820
CREATED:20230201T031513Z
LAST-MODIFIED:20230201T035953Z
UID:4519-1675778400-1675782000@p20network.niu.edu
SUMMARY:Higher Learning Commission Policy Proposal Informational Webinar
DESCRIPTION:Register for the Illinois P-20 Network’s Higher Learning Commission Policy Proposal Informational Webinar
URL:https://p20network.niu.edu/event/higher-learning-commission-policy-proposal-informational-webinar/
LOCATION:Online
CATEGORIES:Webinars,Workgroup Meetings
ATTACH;FMTTYPE=image/png:https://eadn-wc04-5307718.nxedge.io/wp-content/uploads/2023/01/1-HLClogo_General.png
ORGANIZER;CN="P-20 Network":MAILTO:p20network@niu.edu
END:VEVENT
BEGIN:VEVENT
DTSTART;TZID=America/Chicago:20220802T090000
DTEND;TZID=America/Chicago:20220802T103000
DTSTAMP:20260425T190820
CREATED:20220526T143022Z
LAST-MODIFIED:20220526T143022Z
UID:4373-1659430800-1659436200@p20network.niu.edu
SUMMARY:ISBE CTE Summer Speaker Series - Elimination of Barriers for Individual CTE Students - Educator Panel
DESCRIPTION:
URL:https://p20network.niu.edu/event/isbe-cte-summer-speaker-series-elimination-of-barriers-for-individual-cte-students-educator-panel/
LOCATION:Online
CATEGORIES:Webinars
ATTACH;FMTTYPE=image/jpeg:https://eadn-wc04-5307718.nxedge.io/wp-content/uploads/2022/05/ISBE-CTE-Summer-Speaker-Series-2022-Title-Image.jpg
ORGANIZER;CN="P-20 Network":MAILTO:p20network@niu.edu
END:VEVENT
BEGIN:VEVENT
DTSTART;TZID=America/Chicago:20220728T090000
DTEND;TZID=America/Chicago:20220728T103000
DTSTAMP:20260425T190820
CREATED:20220526T142741Z
LAST-MODIFIED:20220526T143141Z
UID:4369-1658998800-1659004200@p20network.niu.edu
SUMMARY:ISBE CTE Summer Speaker Series - Active Recruitment of Special Populations into CTE Programs and Nontraditional Careers - Educator Panel
DESCRIPTION:
URL:https://p20network.niu.edu/event/isbe-cte-summer-speaker-series-active-recruitment-of-special-populations-into-cte-programs-and-nontraditional-careers-educator-panel/
LOCATION:Online
CATEGORIES:Webinars
ATTACH;FMTTYPE=image/jpeg:https://eadn-wc04-5307718.nxedge.io/wp-content/uploads/2022/05/ISBE-CTE-Summer-Speaker-Series-2022-Title-Image.jpg
ORGANIZER;CN="P-20 Network":MAILTO:p20network@niu.edu
END:VEVENT
BEGIN:VEVENT
DTSTART;TZID=America/Chicago:20220727T090000
DTEND;TZID=America/Chicago:20220727T103000
DTSTAMP:20260425T190820
CREATED:20220526T142508Z
LAST-MODIFIED:20220526T143123Z
UID:4365-1658912400-1658917800@p20network.niu.edu
SUMMARY:ISBE CTE Summer Speaker Series - Family & Community Engagement and Postsecondary Placement - Educator Panel
DESCRIPTION:
URL:https://p20network.niu.edu/event/isbe-cte-summer-speaker-series-family-community-engagement-and-postsecondary-placement-educator-panel/
LOCATION:Online
CATEGORIES:Webinars
ATTACH;FMTTYPE=image/jpeg:https://eadn-wc04-5307718.nxedge.io/wp-content/uploads/2022/05/ISBE-CTE-Summer-Speaker-Series-2022-Title-Image.jpg
ORGANIZER;CN="P-20 Network":MAILTO:p20network@niu.edu
END:VEVENT
BEGIN:VEVENT
DTSTART;TZID=America/Chicago:20220726T130000
DTEND;TZID=America/Chicago:20220726T143000
DTSTAMP:20260425T190820
CREATED:20220526T150030Z
LAST-MODIFIED:20220526T151338Z
UID:4393-1658840400-1658845800@p20network.niu.edu
SUMMARY:ISBE CTE Educator Plan Time - General/All Career Pathways
DESCRIPTION:Join us this summer to reflect on thoughts for schools from industry and to help provide direction regarding CTE Standards! Participation is open to all educators\, teachers and administrators\, who teach or support Career & Technical Education programs in Illinois.
URL:https://p20network.niu.edu/event/isbe-cte-educator-plan-time-general-all-career-pathways/
LOCATION:Online
CATEGORIES:Webinars
ATTACH;FMTTYPE=image/png:https://eadn-wc04-5307718.nxedge.io/wp-content/uploads/2022/05/CTE-Plan-Time-Image-Slide.png
ORGANIZER;CN="P-20 Network":MAILTO:p20network@niu.edu
END:VEVENT
BEGIN:VEVENT
DTSTART;TZID=America/Chicago:20220726T090000
DTEND;TZID=America/Chicago:20220726T103000
DTSTAMP:20260425T190820
CREATED:20220526T145935Z
LAST-MODIFIED:20220526T145935Z
UID:4391-1658826000-1658831400@p20network.niu.edu
SUMMARY:ISBE CTE Educator Plan Time - Manufacturing\, Engineering\, Technology and Trades
DESCRIPTION:Join us this summer to reflect on thoughts for schools from industry and to help provide direction regarding CTE Standards! Participation is open to all educators\, teachers and administrators\, who teach or support Career & Technical Education programs in Illinois.
URL:https://p20network.niu.edu/event/isbe-cte-educator-plan-time-manufacturing-engineering-technology-and-trades/
LOCATION:Online
CATEGORIES:Webinars
ATTACH;FMTTYPE=image/png:https://eadn-wc04-5307718.nxedge.io/wp-content/uploads/2022/05/CTE-Plan-Time-Image-Slide.png
ORGANIZER;CN="P-20 Network":MAILTO:p20network@niu.edu
END:VEVENT
BEGIN:VEVENT
DTSTART;TZID=America/Chicago:20220719T130000
DTEND;TZID=America/Chicago:20220719T143000
DTSTAMP:20260425T190820
CREATED:20220526T144134Z
LAST-MODIFIED:20220526T144134Z
UID:4385-1658235600-1658241000@p20network.niu.edu
SUMMARY:ISBE CTE Educator Plan Time - Information Technology
DESCRIPTION:Join us this summer to reflect on thoughts for schools from industry and to help provide direction regarding CTE Standards! Participation is open to all educators\, teachers and administrators\, who teach or support Career & Technical Education programs in Illinois.
URL:https://p20network.niu.edu/event/isbe-cte-educator-plan-time-information-technology/
LOCATION:Online
CATEGORIES:Webinars
ATTACH;FMTTYPE=image/png:https://eadn-wc04-5307718.nxedge.io/wp-content/uploads/2022/05/CTE-Plan-Time-Image-Slide.png
ORGANIZER;CN="P-20 Network":MAILTO:p20network@niu.edu
END:VEVENT
BEGIN:VEVENT
DTSTART;TZID=America/Chicago:20220719T090000
DTEND;TZID=America/Chicago:20220719T103000
DTSTAMP:20260425T190820
CREATED:20220526T144756Z
LAST-MODIFIED:20220526T144756Z
UID:4389-1658221200-1658226600@p20network.niu.edu
SUMMARY:ISBE CTE Educator Plan Time - Human and Public Services
DESCRIPTION:Join us this summer to reflect on thoughts for schools from industry and to help provide direction regarding CTE Standards! Participation is open to all educators\, teachers and administrators\, who teach or support Career & Technical Education programs in Illinois.
URL:https://p20network.niu.edu/event/isbe-cte-educator-plan-time-human-and-public-services/
LOCATION:Online
CATEGORIES:Webinars
ATTACH;FMTTYPE=image/png:https://eadn-wc04-5307718.nxedge.io/wp-content/uploads/2022/05/CTE-Plan-Time-Image-Slide.png
ORGANIZER;CN="P-20 Network":MAILTO:p20network@niu.edu
END:VEVENT
BEGIN:VEVENT
DTSTART;TZID=America/Chicago:20220628T103000
DTEND;TZID=America/Chicago:20220628T120000
DTSTAMP:20260425T190820
CREATED:20220526T142132Z
LAST-MODIFIED:20220526T142132Z
UID:4362-1656412200-1656417600@p20network.niu.edu
SUMMARY:ISBE CTE Summer Speaker Series - Family & Community Engagement and Postsecondary Placement - Dr. Ayanna Brown
DESCRIPTION:
URL:https://p20network.niu.edu/event/isbe-cte-summer-speaker-series-family-community-engagement-and-postsecondary-placement-dr-ayanna-brown/
LOCATION:Online
CATEGORIES:Webinars
ATTACH;FMTTYPE=image/jpeg:https://eadn-wc04-5307718.nxedge.io/wp-content/uploads/2022/05/ISBE-CTE-Summer-Speaker-Series-2022-Title-Image.jpg
ORGANIZER;CN="P-20 Network":MAILTO:p20network@niu.edu
END:VEVENT
BEGIN:VEVENT
DTSTART;TZID=America/Chicago:20220623T090000
DTEND;TZID=America/Chicago:20220623T103000
DTSTAMP:20260425T190820
CREATED:20220526T142924Z
LAST-MODIFIED:20220526T142924Z
UID:4371-1655974800-1655980200@p20network.niu.edu
SUMMARY:ISBE CTE Summer Speaker Series - Elimination of Barriers for Individual CTE Students - Dr. Valerie Milton
DESCRIPTION:
URL:https://p20network.niu.edu/event/isbe-cte-summer-speaker-series-elimination-of-barriers-for-individual-cte-students-dr-valerie-milton/
LOCATION:Online
CATEGORIES:Webinars
ATTACH;FMTTYPE=image/jpeg:https://eadn-wc04-5307718.nxedge.io/wp-content/uploads/2022/05/ISBE-CTE-Summer-Speaker-Series-2022-Title-Image.jpg
ORGANIZER;CN="P-20 Network":MAILTO:p20network@niu.edu
END:VEVENT
BEGIN:VEVENT
DTSTART;TZID=America/Chicago:20220622T130000
DTEND;TZID=America/Chicago:20220622T143000
DTSTAMP:20260425T190820
CREATED:20220526T143931Z
LAST-MODIFIED:20220526T143931Z
UID:4383-1655902800-1655908200@p20network.niu.edu
SUMMARY:ISBE CTE Educator Plan Time - Health Sciences and Technology
DESCRIPTION:Join us this summer to reflect on thoughts for schools from industry and to help provide direction regarding CTE Standards! Participation is open to all educators\, teachers and administrators\, who teach or support Career & Technical Education programs in Illinois.
URL:https://p20network.niu.edu/event/isbe-cte-educator-plan-time-health-sciences-and-technology/
LOCATION:Online
CATEGORIES:Webinars
ATTACH;FMTTYPE=image/png:https://eadn-wc04-5307718.nxedge.io/wp-content/uploads/2022/05/CTE-Plan-Time-Image-Slide.png
ORGANIZER;CN="P-20 Network":MAILTO:p20network@niu.edu
END:VEVENT
BEGIN:VEVENT
DTSTART;TZID=America/Chicago:20220622T090000
DTEND;TZID=America/Chicago:20220622T103000
DTSTAMP:20260425T190820
CREATED:20220526T143835Z
LAST-MODIFIED:20220526T143835Z
UID:4381-1655888400-1655893800@p20network.niu.edu
SUMMARY:ISBE CTE Educator Plan Time - Finance and Business Services
DESCRIPTION:Join us this summer to reflect on thoughts for schools from industry and to help provide direction regarding CTE Standards! Participation is open to all educators\, teachers and administrators\, who teach or support Career & Technical Education programs in Illinois.
URL:https://p20network.niu.edu/event/isbe-cte-educator-plan-time-finance-and-business-services/
LOCATION:Online
CATEGORIES:Webinars
ATTACH;FMTTYPE=image/png:https://eadn-wc04-5307718.nxedge.io/wp-content/uploads/2022/05/CTE-Plan-Time-Image-Slide.png
ORGANIZER;CN="P-20 Network":MAILTO:p20network@niu.edu
END:VEVENT
BEGIN:VEVENT
DTSTART;TZID=America/Chicago:20220621T090000
DTEND;TZID=America/Chicago:20220621T103000
DTSTAMP:20260425T190820
CREATED:20220526T142642Z
LAST-MODIFIED:20220526T143045Z
UID:4367-1655802000-1655807400@p20network.niu.edu
SUMMARY:ISBE CTE Summer Speaker Series - Active Recruitment of Special Populations into CTE Programs and Nontraditional Careers - Dr. Amanda Bastoni
DESCRIPTION:
URL:https://p20network.niu.edu/event/isbe-cte-summer-speaker-series-active-recruitment-of-special-populations-into-cte-programs-and-nontraditional-careers-dr-amanda-bastoni/
LOCATION:Online
CATEGORIES:Webinars
ATTACH;FMTTYPE=image/jpeg:https://eadn-wc04-5307718.nxedge.io/wp-content/uploads/2022/05/ISBE-CTE-Summer-Speaker-Series-2022-Title-Image.jpg
ORGANIZER;CN="P-20 Network":MAILTO:p20network@niu.edu
END:VEVENT
BEGIN:VEVENT
DTSTART;TZID=America/Chicago:20220615T130000
DTEND;TZID=America/Chicago:20220615T140000
DTSTAMP:20260425T190820
CREATED:20220526T143300Z
LAST-MODIFIED:20220526T143300Z
UID:4375-1655298000-1655301600@p20network.niu.edu
SUMMARY:ISBE High Quality CTE Practices Webinar
DESCRIPTION:
URL:https://p20network.niu.edu/event/isbe-high-quality-cte-practices-webinar/
LOCATION:Online
CATEGORIES:Webinars
ATTACH;FMTTYPE=image/jpeg:https://eadn-wc04-5307718.nxedge.io/wp-content/uploads/2022/05/High-Quality-CTE-Practices-National-Landscape-Webinar-Registration-June-2022-Title-Image.jpg
ORGANIZER;CN="P-20 Network":MAILTO:p20network@niu.edu
END:VEVENT
BEGIN:VEVENT
DTSTART;TZID=America/Chicago:20220614T130000
DTEND;TZID=America/Chicago:20220614T143000
DTSTAMP:20260425T190820
CREATED:20220526T143714Z
LAST-MODIFIED:20220526T143714Z
UID:4379-1655211600-1655217000@p20network.niu.edu
SUMMARY:ISBE CTE Educator Plan Time - Arts and Communications
DESCRIPTION:Join us this summer to reflect on thoughts for schools from industry and to help provide direction regarding CTE Standards! Participation is open to all educators\, teachers and administrators\, who teach or support Career & Technical Education programs in Illinois.
URL:https://p20network.niu.edu/event/isbe-cte-educator-plan-time-arts-and-communications/
LOCATION:Online
CATEGORIES:Webinars
ATTACH;FMTTYPE=image/png:https://eadn-wc04-5307718.nxedge.io/wp-content/uploads/2022/05/CTE-Plan-Time-Image-Slide.png
ORGANIZER;CN="P-20 Network":MAILTO:p20network@niu.edu
END:VEVENT
END:VCALENDAR